BEGIN:VCALENDAR
VERSION:2.0
PRODID:-//Preshaadi Dating - ECPv6.11.0.1//NONSGML v1.0//EN
CALSCALE:GREGORIAN
METHOD:PUBLISH
X-ORIGINAL-URL:https://preshaadi-dating.com
X-WR-CALDESC:Events for Preshaadi Dating
REFRESH-INTERVAL;VALUE=DURATION:PT1H
X-Robots-Tag:noindex
X-PUBLISHED-TTL:PT1H
BEGIN:VTIMEZONE
TZID:UTC
BEGIN:STANDARD
TZOFFSETFROM:+0000
TZOFFSETTO:+0000
TZNAME:UTC
DTSTART:20170101T000000
END:STANDARD
END:VTIMEZONE
BEGIN:VTIMEZONE
TZID:America/New_York
BEGIN:DAYLIGHT
TZOFFSETFROM:-0500
TZOFFSETTO:-0400
TZNAME:EDT
DTSTART:20170312T070000
END:DAYLIGHT
BEGIN:STANDARD
TZOFFSETFROM:-0400
TZOFFSETTO:-0500
TZNAME:EST
DTSTART:20171105T060000
END:STANDARD
END:VTIMEZONE
BEGIN:VEVENT
DTSTART;TZID=UTC:20170521T123000
DTEND;TZID=UTC:20170521T150000
DTSTAMP:20260420T090013
CREATED:20170503T001008Z
LAST-MODIFIED:20170509T190526Z
UID:712-1495369800-1495378800@preshaadi-dating.com
SUMMARY:South Asians-May 21
DESCRIPTION:Inclusions\n• An energizing host\n• Lunch Buffet-Veg and Non Veg will be served
URL:https://preshaadi-dating.com/event/south-asians-may-21/
LOCATION:INDIA TASTE\, 900 RayLawson Blvd\, Brampton\, Ontario\, L6Y 5H7\, Canada
ATTACH;FMTTYPE=image/jpeg:https://preshaadi-dating.com/wp-content/uploads/2017/05/Big-Events-May21-2017-for-seniors.jpg
ORGANIZER;CN="Pre Shaadi Dating":MAILTO:info@preshaadi-dating.com
END:VEVENT
BEGIN:VEVENT
DTSTART;TZID=UTC:20170520T113000
DTEND;TZID=UTC:20170520T143000
DTSTAMP:20260420T090013
CREATED:20170502T230908Z
LAST-MODIFIED:20170509T190412Z
UID:694-1495279800-1495290600@preshaadi-dating.com
SUMMARY:South Asians-May 20
DESCRIPTION:Inclusions\n• An energizing host\n• Lunch Buffet-Veg and Non Veg will be served\n• Bring a friend and you will get 10% off  \n 
URL:https://preshaadi-dating.com/event/south-asians-may-20/
LOCATION:AMBIANCE OF INDIA\, 2157 Royal Windsor Dr.\, Mississauga \, ON\, L5J 1K5\, Canada
ATTACH;FMTTYPE=image/jpeg:https://preshaadi-dating.com/wp-content/uploads/2017/05/Big-Events-May-20-2017.jpg
ORGANIZER;CN="Pre Shaadi Dating":MAILTO:info@preshaadi-dating.com
END:VEVENT
BEGIN:VEVENT
DTSTART;TZID=UTC:20170519T180000
DTEND;TZID=UTC:20170519T220000
DTSTAMP:20260420T090013
CREATED:20170502T213257Z
LAST-MODIFIED:20170509T190315Z
UID:686-1495216800-1495231200@preshaadi-dating.com
SUMMARY:South Asians-May 19
DESCRIPTION:Inclusions\n• An energizing host\n• Dinner Buffet-Veg and Non Veg will be served\n• Bring a friend and you will get 10% off 
URL:https://preshaadi-dating.com/event/south-asians-may-19/
LOCATION:INDIA TASTE\, 900 RayLawson Blvd\, Brampton\, Ontario\, L6Y 5H7\, Canada
ATTACH;FMTTYPE=image/jpeg:https://preshaadi-dating.com/wp-content/uploads/2017/05/Big-Events-May-19-2017.jpg
ORGANIZER;CN="Pre Shaadi Dating":MAILTO:info@preshaadi-dating.com
END:VEVENT
BEGIN:VEVENT
DTSTART;TZID=UTC:20170517T080000
DTEND;TZID=UTC:20170604T110000
DTSTAMP:20260420T090013
CREATED:20170517T175044Z
LAST-MODIFIED:20170523T222429Z
UID:755-1495008000-1496574000@preshaadi-dating.com
SUMMARY:South Asians- June 2
DESCRIPTION:Inclusions\n• An energizing host\n• Lunch Buffet-Veg and Non Veg will be served\n• Bring a friend and you will get 10% off 
URL:https://preshaadi-dating.com/event/south-asians-june-2/
LOCATION:AMBIANCE OF INDIA\, 2157 Royal Windsor Dr.\, Mississauga \, ON\, L5J 1K5\, Canada
ATTACH;FMTTYPE=image/png:https://preshaadi-dating.com/wp-content/uploads/2017/05/Big-events-June-2-2017-updated.fw_.png
ORGANIZER;CN="Pre Shaadi Dating":MAILTO:info@preshaadi-dating.com
END:VEVENT
BEGIN:VEVENT
DTSTART;TZID=UTC:20170517T080000
DTEND;TZID=UTC:20170517T170000
DTSTAMP:20260420T090013
CREATED:20170523T213827Z
LAST-MODIFIED:20170523T213827Z
UID:766-1495008000-1495040400@preshaadi-dating.com
SUMMARY:South Asians-June 4
DESCRIPTION:Inclusions\n• An energizing host\n• Lunch Buffet–Veg and Non Veg will be served\n• Bring a friend and you will get 10% OFF
URL:https://preshaadi-dating.com/event/south-asians-june-4-2/
LOCATION:INDIA TASTE\, 900 RayLawson Blvd\, Brampton\, Ontario\, L6Y 5H7\, Canada
ATTACH;FMTTYPE=image/jpeg:https://preshaadi-dating.com/wp-content/uploads/2017/05/Big-Events-June-2-2017-1.jpg
ORGANIZER;CN="Pre Shaadi Dating":MAILTO:info@preshaadi-dating.com
END:VEVENT
BEGIN:VEVENT
DTSTART;TZID=UTC:20170513T123000
DTEND;TZID=UTC:20170513T150000
DTSTAMP:20260420T090013
CREATED:20170507T134107Z
LAST-MODIFIED:20170509T190730Z
UID:735-1494678600-1494687600@preshaadi-dating.com
SUMMARY:South Asian- May 13
DESCRIPTION:Inclusions \n\nAn energizing host\nLunch Buffet– Veg and Non Veg will be served\nBring a friend and get 10 % Off
URL:https://preshaadi-dating.com/event/south-asian-may-13/
LOCATION:Scores\, 3131 Boulevard de la Côte-Vertu\, Saint-Laurent\, Quebec\, H4R1Y8\, Canada
ATTACH;FMTTYPE=image/png:https://preshaadi-dating.com/wp-content/uploads/2017/05/South-Asian-May-13-2017.fw_.png
ORGANIZER;CN="Pre Shaadi Dating":MAILTO:info@preshaadi-dating.com
END:VEVENT
BEGIN:VEVENT
DTSTART;TZID=America/New_York:20170507T113000
DTEND;TZID=America/New_York:20170507T143000
DTSTAMP:20260420T090013
CREATED:20170425T173622Z
LAST-MODIFIED:20170517T175419Z
UID:589-1494156600-1494167400@preshaadi-dating.com
SUMMARY:South Asian And Indian Singles - May 7th
DESCRIPTION:Inclusions\n• An energizing host\n• Lunch Buffet-Veg and Non Veg will be served\n• Bring a friend and you will get 10% off 
URL:https://preshaadi-dating.com/event/south-asian-and-indian-singles-may-7th/
LOCATION:Sahib\, 225 B Hymus blvd\, Pointe-Claire\, Quebec\, H9R1G4\, Canada
ATTACH;FMTTYPE=image/jpeg:https://preshaadi-dating.com/wp-content/uploads/2017/04/panflet2bb.jpg
END:VEVENT
BEGIN:VEVENT
DTSTART;TZID=America/New_York:20170506T113000
DTEND;TZID=America/New_York:20170506T143000
DTSTAMP:20260420T090013
CREATED:20170425T145017Z
LAST-MODIFIED:20170517T175257Z
UID:574-1494070200-1494081000@preshaadi-dating.com
SUMMARY:South Asian- May 6th
DESCRIPTION:Inclusions\n• An energizing host\n• Lunch Buffet–Veg and Non Veg will be served\n• Bring a friend and you will get 10% OFF
URL:https://preshaadi-dating.com/event/big-event-may-6-scores/
LOCATION:Scores\, 3131 Boulevard de la Côte-Vertu\, Saint-Laurent\, Quebec\, H4R1Y8\, Canada
ATTACH;FMTTYPE=image/jpeg:https://preshaadi-dating.com/wp-content/uploads/2017/04/panflet-base1bb.jpg
ORGANIZER;CN="Pre Shaadi Dating":MAILTO:info@preshaadi-dating.com
END:VEVENT
END:VCALENDAR